BEGIN:VCALENDAR
VERSION:2.0
PRODID:-// - ECPv6.15.17//NONSGML v1.0//EN
CALSCALE:GREGORIAN
METHOD:PUBLISH
X-ORIGINAL-URL:https://sysa.com
X-WR-CALDESC:Events for 
REFRESH-INTERVAL;VALUE=DURATION:PT1H
X-Robots-Tag:noindex
X-PUBLISHED-TTL:PT1H
BEGIN:VTIMEZONE
TZID:America/Los_Angeles
BEGIN:DAYLIGHT
TZOFFSETFROM:-0800
TZOFFSETTO:-0700
TZNAME:PDT
DTSTART:20190310T100000
END:DAYLIGHT
BEGIN:STANDARD
TZOFFSETFROM:-0700
TZOFFSETTO:-0800
TZNAME:PST
DTSTART:20191103T090000
END:STANDARD
BEGIN:DAYLIGHT
TZOFFSETFROM:-0800
TZOFFSETTO:-0700
TZNAME:PDT
DTSTART:20200308T100000
END:DAYLIGHT
BEGIN:STANDARD
TZOFFSETFROM:-0700
TZOFFSETTO:-0800
TZNAME:PST
DTSTART:20201101T090000
END:STANDARD
BEGIN:DAYLIGHT
TZOFFSETFROM:-0800
TZOFFSETTO:-0700
TZNAME:PDT
DTSTART:20210314T100000
END:DAYLIGHT
BEGIN:STANDARD
TZOFFSETFROM:-0700
TZOFFSETTO:-0800
TZNAME:PST
DTSTART:20211107T090000
END:STANDARD
BEGIN:DAYLIGHT
TZOFFSETFROM:-0800
TZOFFSETTO:-0700
TZNAME:PDT
DTSTART:20220313T100000
END:DAYLIGHT
BEGIN:STANDARD
TZOFFSETFROM:-0700
TZOFFSETTO:-0800
TZNAME:PST
DTSTART:20221106T090000
END:STANDARD
END:VTIMEZONE
BEGIN:VEVENT
DTSTART;VALUE=DATE:20201224
DTEND;VALUE=DATE:20210102
DTSTAMP:20260424T204139
CREATED:20200211T223920Z
LAST-MODIFIED:20200211T223920Z
UID:26224-1608768000-1609545599@sysa.com
SUMMARY:Office Closed
DESCRIPTION:
URL:https://sysa.com/event/office-closed-7/
END:VEVENT
BEGIN:VEVENT
DTSTART;VALUE=DATE:20201231
DTEND;VALUE=DATE:20210101
DTSTAMP:20260424T204139
CREATED:20201027T224854Z
LAST-MODIFIED:20201027T225818Z
UID:27176-1609372800-1609459199@sysa.com
SUMMARY:Registration Deadline Speed & Agility January
DESCRIPTION:January Speed and Agility begins 1/4\nAges 7-10\, M/W\, 6:30 pm\nAges 10-13\, T/Th\, 6:30 pm\nRegistration deadline: 12/31/2020
URL:https://sysa.com/event/deadline-speed-agility-january/
END:VEVENT
END:VCALENDAR