BEGIN:VCALENDAR
VERSION:2.0
PRODID:-// - ECPv6.15.17//NONSGML v1.0//EN
CALSCALE:GREGORIAN
METHOD:PUBLISH
X-ORIGINAL-URL:https://sysa.com
X-WR-CALDESC:Events for 
REFRESH-INTERVAL;VALUE=DURATION:PT1H
X-Robots-Tag:noindex
X-PUBLISHED-TTL:PT1H
BEGIN:VTIMEZONE
TZID:America/Los_Angeles
BEGIN:DAYLIGHT
TZOFFSETFROM:-0800
TZOFFSETTO:-0700
TZNAME:PDT
DTSTART:20190310T100000
END:DAYLIGHT
BEGIN:STANDARD
TZOFFSETFROM:-0700
TZOFFSETTO:-0800
TZNAME:PST
DTSTART:20191103T090000
END:STANDARD
BEGIN:DAYLIGHT
TZOFFSETFROM:-0800
TZOFFSETTO:-0700
TZNAME:PDT
DTSTART:20200308T100000
END:DAYLIGHT
BEGIN:STANDARD
TZOFFSETFROM:-0700
TZOFFSETTO:-0800
TZNAME:PST
DTSTART:20201101T090000
END:STANDARD
BEGIN:DAYLIGHT
TZOFFSETFROM:-0800
TZOFFSETTO:-0700
TZNAME:PDT
DTSTART:20210314T100000
END:DAYLIGHT
BEGIN:STANDARD
TZOFFSETFROM:-0700
TZOFFSETTO:-0800
TZNAME:PST
DTSTART:20211107T090000
END:STANDARD
BEGIN:DAYLIGHT
TZOFFSETFROM:-0800
TZOFFSETTO:-0700
TZNAME:PDT
DTSTART:20220313T100000
END:DAYLIGHT
BEGIN:STANDARD
TZOFFSETFROM:-0700
TZOFFSETTO:-0800
TZNAME:PST
DTSTART:20221106T090000
END:STANDARD
END:VTIMEZONE
BEGIN:VEVENT
DTSTART;VALUE=DATE:20210507
DTEND;VALUE=DATE:20210508
DTSTAMP:20260425T063702
CREATED:20210210T230035Z
LAST-MODIFIED:20210210T230035Z
UID:27778-1620345600-1620431999@sysa.com
SUMMARY:Track Meet Grades K-2
DESCRIPTION:
URL:https://sysa.com/event/track-meet-grades-k-2-5/
END:VEVENT
BEGIN:VEVENT
DTSTART;VALUE=DATE:20210501
DTEND;VALUE=DATE:20210502
DTSTAMP:20260425T063702
CREATED:20210210T232832Z
LAST-MODIFIED:20210210T232832Z
UID:27786-1619827200-1619913599@sysa.com
SUMMARY:Track Meet Grades 3-6
DESCRIPTION:
URL:https://sysa.com/event/track-meet-grades-3-6-3/
END:VEVENT
BEGIN:VEVENT
DTSTART;VALUE=DATE:20210430
DTEND;VALUE=DATE:20210501
DTSTAMP:20260425T063702
CREATED:20210210T225931Z
LAST-MODIFIED:20210210T225931Z
UID:27774-1619740800-1619827199@sysa.com
SUMMARY:Track Meet Grades K-2
DESCRIPTION:
URL:https://sysa.com/event/track-meet-grades-k-2-3/
END:VEVENT
BEGIN:VEVENT
DTSTART;VALUE=DATE:20210424
DTEND;VALUE=DATE:20210425
DTSTAMP:20260425T063702
CREATED:20210210T232809Z
LAST-MODIFIED:20210210T232809Z
UID:27784-1619222400-1619308799@sysa.com
SUMMARY:Track Meet Grades 3-6
DESCRIPTION:
URL:https://sysa.com/event/track-meet-grades-3-6-2/
END:VEVENT
BEGIN:VEVENT
DTSTART;VALUE=DATE:20210423
DTEND;VALUE=DATE:20210424
DTSTAMP:20260425T063702
CREATED:20210210T225908Z
LAST-MODIFIED:20210210T225908Z
UID:27772-1619136000-1619222399@sysa.com
SUMMARY:Track Meet Grades K-2
DESCRIPTION:
URL:https://sysa.com/event/track-meet-grades-k-2-2/
END:VEVENT
BEGIN:VEVENT
DTSTART;VALUE=DATE:20210417
DTEND;VALUE=DATE:20210418
DTSTAMP:20260425T063702
CREATED:20210210T232743Z
LAST-MODIFIED:20210210T232743Z
UID:27782-1618617600-1618703999@sysa.com
SUMMARY:Track Meet Grades 3-6
DESCRIPTION:
URL:https://sysa.com/event/track-meet-grades-3-6/
END:VEVENT
BEGIN:VEVENT
DTSTART;VALUE=DATE:20210417
DTEND;VALUE=DATE:20210418
DTSTAMP:20260425T063702
CREATED:20210210T224258Z
LAST-MODIFIED:20210210T224258Z
UID:27736-1618617600-1618703999@sysa.com
SUMMARY:Rookie Soccer Saturday Classes Begins
DESCRIPTION:
URL:https://sysa.com/event/rookie-soccer-saturday-classes-begins/
END:VEVENT
BEGIN:VEVENT
DTSTART;VALUE=DATE:20210416
DTEND;VALUE=DATE:20210417
DTSTAMP:20260425T063702
CREATED:20210210T225847Z
LAST-MODIFIED:20210210T225847Z
UID:27770-1618531200-1618617599@sysa.com
SUMMARY:Track Meet Grades K-2
DESCRIPTION:
URL:https://sysa.com/event/track-meet-grades-k-2/
END:VEVENT
BEGIN:VEVENT
DTSTART;VALUE=DATE:20210416
DTEND;VALUE=DATE:20210417
DTSTAMP:20260425T063702
CREATED:20210210T224223Z
LAST-MODIFIED:20210210T224223Z
UID:27734-1618531200-1618617599@sysa.com
SUMMARY:Rookie Soccer Fridays Classes Begin
DESCRIPTION:
URL:https://sysa.com/event/rookie-soccer-fridays-classes-begin/
END:VEVENT
BEGIN:VEVENT
DTSTART;VALUE=DATE:20210415
DTEND;VALUE=DATE:20210416
DTSTAMP:20260425T063702
CREATED:20210210T224533Z
LAST-MODIFIED:20210210T224533Z
UID:27740-1618444800-1618531199@sysa.com
SUMMARY:Rookie Soccer Thursday Classes Begins
DESCRIPTION:
URL:https://sysa.com/event/rookie-soccer-thursday-classes-begins/
END:VEVENT
BEGIN:VEVENT
DTSTART;VALUE=DATE:20210414
DTEND;VALUE=DATE:20210415
DTSTAMP:20260425T063702
CREATED:20210210T224642Z
LAST-MODIFIED:20210210T224642Z
UID:27744-1618358400-1618444799@sysa.com
SUMMARY:Rookie Soccer Wednesday Classes Begins
DESCRIPTION:
URL:https://sysa.com/event/rookie-soccer-wednesday-classes-begins/
END:VEVENT
BEGIN:VEVENT
DTSTART;VALUE=DATE:20210413
DTEND;VALUE=DATE:20210414
DTSTAMP:20260425T063702
CREATED:20210210T234834Z
LAST-MODIFIED:20210210T234834Z
UID:27792-1618272000-1618358399@sysa.com
SUMMARY:Spring Ultimate Frisbee Training Begins
DESCRIPTION:
URL:https://sysa.com/event/spring-ultimate-frisbee-training-begins/
END:VEVENT
BEGIN:VEVENT
DTSTART;VALUE=DATE:20210413
DTEND;VALUE=DATE:20210414
DTSTAMP:20260425T063702
CREATED:20210210T224752Z
LAST-MODIFIED:20210210T224752Z
UID:27748-1618272000-1618358399@sysa.com
SUMMARY:Rookie Soccer Tuesday Classes Begins
DESCRIPTION:
URL:https://sysa.com/event/rookie-soccer-tuesday-classes-begins/
END:VEVENT
BEGIN:VEVENT
DTSTART;VALUE=DATE:20210412
DTEND;VALUE=DATE:20210413
DTSTAMP:20260425T063702
CREATED:20210210T225431Z
LAST-MODIFIED:20210210T225431Z
UID:27761-1618185600-1618271999@sysa.com
SUMMARY:Spring Flag Football Training Begins
DESCRIPTION:
URL:https://sysa.com/event/spring-flag-football-training-begins/
END:VEVENT
BEGIN:VEVENT
DTSTART;VALUE=DATE:20210412
DTEND;VALUE=DATE:20210413
DTSTAMP:20260425T063702
CREATED:20210210T225119Z
LAST-MODIFIED:20210210T225119Z
UID:27756-1618185600-1618271999@sysa.com
SUMMARY:Spring Soccer Training Begins
DESCRIPTION:
URL:https://sysa.com/event/spring-soccer-training-begins/
END:VEVENT
BEGIN:VEVENT
DTSTART;VALUE=DATE:20210412
DTEND;VALUE=DATE:20210413
DTSTAMP:20260425T063702
CREATED:20210210T224924Z
LAST-MODIFIED:20210210T224924Z
UID:27752-1618185600-1618271999@sysa.com
SUMMARY:Rookie Soccer Monday Classes Begins
DESCRIPTION:
URL:https://sysa.com/event/rookie-soccer-monday-classes-begins/
END:VEVENT
BEGIN:VEVENT
DTSTART;VALUE=DATE:20210405
DTEND;VALUE=DATE:20210406
DTSTAMP:20260425T063702
CREATED:20210210T225652Z
LAST-MODIFIED:20210210T225652Z
UID:27765-1617580800-1617667199@sysa.com
SUMMARY:Spring Track & Field Begins
DESCRIPTION:
URL:https://sysa.com/event/spring-track-field-begins/
END:VEVENT
BEGIN:VEVENT
DTSTART;VALUE=DATE:20210325
DTEND;VALUE=DATE:20210326
DTSTAMP:20260425T063702
CREATED:20210210T235652Z
LAST-MODIFIED:20210210T235652Z
UID:27804-1616630400-1616716799@sysa.com
SUMMARY:Spring Flag Football\, Track and Ultimate Frisbee Registration Deadline
DESCRIPTION:
URL:https://sysa.com/event/spring-flag-football-track-and-ultimate-frisbee-registration-deadline/
END:VEVENT
BEGIN:VEVENT
DTSTART;VALUE=DATE:20210318
DTEND;VALUE=DATE:20210319
DTSTAMP:20260425T063702
CREATED:20210210T235515Z
LAST-MODIFIED:20210210T235515Z
UID:27802-1616025600-1616111999@sysa.com
SUMMARY:Spring Soccer Training Registration Deadline
DESCRIPTION:
URL:https://sysa.com/event/spring-soccer-training-registration-deadline/
END:VEVENT
BEGIN:VEVENT
DTSTART;VALUE=DATE:20210308
DTEND;VALUE=DATE:20210309
DTSTAMP:20260425T063702
CREATED:20201027T224734Z
LAST-MODIFIED:20201027T225545Z
UID:27174-1615161600-1615247999@sysa.com
SUMMARY:Speed & Agility March begins
DESCRIPTION:March Speed and Agility begins 3/8\nAges 7-10\, M/W\, 6:30 pm\nAges 10-13\, T/Th\, 6:30 pm\nRegistration deadline: 2/25/2021
URL:https://sysa.com/event/speed-agility-march/
LOCATION:U District PT\, 700 North Hamilton\, Spokane\, WA\, 99202
END:VEVENT
BEGIN:VEVENT
DTSTART;VALUE=DATE:20210225
DTEND;VALUE=DATE:20210226
DTSTAMP:20260425T063702
CREATED:20201027T225151Z
LAST-MODIFIED:20201027T225611Z
UID:27180-1614211200-1614297599@sysa.com
SUMMARY:Registration Deadline Speed & Agility March
DESCRIPTION:Registration Deadline\nMarch Speed and Agility (8 sessions)\nBegins 3/8\nAges 7-10\, M/W\, 6:30 pm\nAges 10-13\, T/Th 6:30 pm
URL:https://sysa.com/event/deadline-speed-agility-march/
END:VEVENT
BEGIN:VEVENT
DTSTART;VALUE=DATE:20210208
DTEND;VALUE=DATE:20210209
DTSTAMP:20260425T063702
CREATED:20201027T224622Z
LAST-MODIFIED:20201027T225635Z
UID:27172-1612742400-1612828799@sysa.com
SUMMARY:Speed & Agility February begins
DESCRIPTION:February Speed and Agility begins 2/8\nAges 7-10\, M/W\, 6:30 pm\nAges 10-13\, T/Th\, 6:30 pm\nRegistration deadline: 1/28/2021
URL:https://sysa.com/event/speed-agility-february/
LOCATION:U District PT\, 700 North Hamilton\, Spokane\, WA\, 99202
END:VEVENT
BEGIN:VEVENT
DTSTART;VALUE=DATE:20210128
DTEND;VALUE=DATE:20210129
DTSTAMP:20260425T063702
CREATED:20201027T225011Z
LAST-MODIFIED:20201027T225721Z
UID:27178-1611792000-1611878399@sysa.com
SUMMARY:Registration Deadline Speed & Agility February
DESCRIPTION:Registration Deadline\nFebruary Speed and Agility begins 2/8\nAges 7-10\, M/W\, 6:30 pm\nAges 10-13\, T/Th\, 6:30 pm\nRegistration deadline: 1/28/2021
URL:https://sysa.com/event/deadline-speed-agility-february/
END:VEVENT
BEGIN:VEVENT
DTSTART;VALUE=DATE:20210109
DTEND;VALUE=DATE:20210110
DTSTAMP:20260425T063702
CREATED:20201027T224032Z
LAST-MODIFIED:20201027T230051Z
UID:27165-1610150400-1610236799@sysa.com
SUMMARY:Indoor Soccer Academy 2015s-2007s begins
DESCRIPTION:Indoor Soccer Academy\nSaturdays\, 1/9-2/6 (5 sessions)\nWarehouse\n2015s-2013s 9:00\n2012s – 2007s 10:00\nRegistration deadline: 12/17
URL:https://sysa.com/event/indoor-soccer-academy-2015s-2007s/
END:VEVENT
BEGIN:VEVENT
DTSTART;VALUE=DATE:20210105
DTEND;VALUE=DATE:20210106
DTSTAMP:20260425T063702
CREATED:20201005T155447Z
LAST-MODIFIED:20201027T223430Z
UID:27000-1609804800-1609891199@sysa.com
SUMMARY:PreK/K/1st Grade Basketball Skills begins
DESCRIPTION:Pre K\, K\, 1st Grade Basketball Skills\nSaturdays 1/5-2/4\nPre K \,Tue/Thur 5:30 pm\nK Tuesdays\, 6:30 pm\n1st Grade\, Thursdays\, 6:30 pm \nLink to register: https://clubs.bluesombrero.com/spokaneysa
URL:https://sysa.com/event/2nd-3rd-grade-basketball-skills/
LOCATION:Warehouse\, 800 North Hamilton\,\, Spokane\, WA\, 99202
ORGANIZER;CN="SYSA":MAILTO:receptionist@sysa.com
END:VEVENT
BEGIN:VEVENT
DTSTART;VALUE=DATE:20210104
DTEND;VALUE=DATE:20210105
DTSTAMP:20260425T063702
CREATED:20201027T224512Z
LAST-MODIFIED:20201027T225751Z
UID:27169-1609718400-1609804799@sysa.com
SUMMARY:Speed & Agility January begins
DESCRIPTION:January Speed and Agility begins 1/4\nAges 7-10\, M/W\, 6:30 pm\nAges 10-13\, T/Th\, 6:30 pm\nRegistration deadline: 12/31/2020
URL:https://sysa.com/event/speed-agility-january/
LOCATION:U District PT\, 700 North Hamilton\, Spokane\, WA\, 99202
END:VEVENT
BEGIN:VEVENT
DTSTART;VALUE=DATE:20201231
DTEND;VALUE=DATE:20210101
DTSTAMP:20260425T063702
CREATED:20201027T224854Z
LAST-MODIFIED:20201027T225818Z
UID:27176-1609372800-1609459199@sysa.com
SUMMARY:Registration Deadline Speed & Agility January
DESCRIPTION:January Speed and Agility begins 1/4\nAges 7-10\, M/W\, 6:30 pm\nAges 10-13\, T/Th\, 6:30 pm\nRegistration deadline: 12/31/2020
URL:https://sysa.com/event/deadline-speed-agility-january/
END:VEVENT
BEGIN:VEVENT
DTSTART;VALUE=DATE:20201224
DTEND;VALUE=DATE:20210102
DTSTAMP:20260425T063702
CREATED:20200211T223920Z
LAST-MODIFIED:20200211T223920Z
UID:26224-1608768000-1609545599@sysa.com
SUMMARY:Office Closed
DESCRIPTION:
URL:https://sysa.com/event/office-closed-7/
END:VEVENT
BEGIN:VEVENT
DTSTART;VALUE=DATE:20201223
DTEND;VALUE=DATE:20201224
DTSTAMP:20260425T063702
CREATED:20200211T223647Z
LAST-MODIFIED:20200211T223647Z
UID:26222-1608681600-1608767999@sysa.com
SUMMARY:Office closes at 2pm
DESCRIPTION:
URL:https://sysa.com/event/office-closes-at-2pm-2/
END:VEVENT
BEGIN:VEVENT
DTSTART;VALUE=DATE:20201217
DTEND;VALUE=DATE:20201218
DTSTAMP:20260425T063702
CREATED:20201005T155051Z
LAST-MODIFIED:20201027T225930Z
UID:26996-1608163200-1608249599@sysa.com
SUMMARY:Registration Deadline PreK\,K\,1st Basketball Skills
DESCRIPTION:Deadline to register for the PreK\, K\, 1st Grade Basketball Skills at the Warehouse.\nPre-K\, Tue/Thu 5:30 pm\nKindergarten Tuesdays 6:30 pm\n1st Grade\, Thursdays\, 6:30 pm \nLink to register: https://clubs.bluesombrero.com/spokaneysa
URL:https://sysa.com/event/deadline-2nd-3rd-basketball-skills/
END:VEVENT
END:VCALENDAR