BEGIN:VCALENDAR
VERSION:2.0
PRODID:-// - ECPv6.15.17//NONSGML v1.0//EN
CALSCALE:GREGORIAN
METHOD:PUBLISH
X-ORIGINAL-URL:https://sysa.com
X-WR-CALDESC:Events for 
REFRESH-INTERVAL;VALUE=DURATION:PT1H
X-Robots-Tag:noindex
X-PUBLISHED-TTL:PT1H
BEGIN:VTIMEZONE
TZID:America/Los_Angeles
BEGIN:DAYLIGHT
TZOFFSETFROM:-0800
TZOFFSETTO:-0700
TZNAME:PDT
DTSTART:20200308T100000
END:DAYLIGHT
BEGIN:STANDARD
TZOFFSETFROM:-0700
TZOFFSETTO:-0800
TZNAME:PST
DTSTART:20201101T090000
END:STANDARD
BEGIN:DAYLIGHT
TZOFFSETFROM:-0800
TZOFFSETTO:-0700
TZNAME:PDT
DTSTART:20210314T100000
END:DAYLIGHT
BEGIN:STANDARD
TZOFFSETFROM:-0700
TZOFFSETTO:-0800
TZNAME:PST
DTSTART:20211107T090000
END:STANDARD
BEGIN:DAYLIGHT
TZOFFSETFROM:-0800
TZOFFSETTO:-0700
TZNAME:PDT
DTSTART:20220313T100000
END:DAYLIGHT
BEGIN:STANDARD
TZOFFSETFROM:-0700
TZOFFSETTO:-0800
TZNAME:PST
DTSTART:20221106T090000
END:STANDARD
END:VTIMEZONE
BEGIN:VEVENT
DTSTART;VALUE=DATE:20210413
DTEND;VALUE=DATE:20210414
DTSTAMP:20260425T085216
CREATED:20210210T234834Z
LAST-MODIFIED:20210210T234834Z
UID:27792-1618272000-1618358399@sysa.com
SUMMARY:Spring Ultimate Frisbee Training Begins
DESCRIPTION:
URL:https://sysa.com/event/spring-ultimate-frisbee-training-begins/
END:VEVENT
BEGIN:VEVENT
DTSTART;VALUE=DATE:20210414
DTEND;VALUE=DATE:20210415
DTSTAMP:20260425T085216
CREATED:20210210T224642Z
LAST-MODIFIED:20210210T224642Z
UID:27744-1618358400-1618444799@sysa.com
SUMMARY:Rookie Soccer Wednesday Classes Begins
DESCRIPTION:
URL:https://sysa.com/event/rookie-soccer-wednesday-classes-begins/
END:VEVENT
BEGIN:VEVENT
DTSTART;VALUE=DATE:20210415
DTEND;VALUE=DATE:20210416
DTSTAMP:20260425T085216
CREATED:20210210T224533Z
LAST-MODIFIED:20210210T224533Z
UID:27740-1618444800-1618531199@sysa.com
SUMMARY:Rookie Soccer Thursday Classes Begins
DESCRIPTION:
URL:https://sysa.com/event/rookie-soccer-thursday-classes-begins/
END:VEVENT
BEGIN:VEVENT
DTSTART;VALUE=DATE:20210416
DTEND;VALUE=DATE:20210417
DTSTAMP:20260425T085216
CREATED:20210210T224223Z
LAST-MODIFIED:20210210T224223Z
UID:27734-1618531200-1618617599@sysa.com
SUMMARY:Rookie Soccer Fridays Classes Begin
DESCRIPTION:
URL:https://sysa.com/event/rookie-soccer-fridays-classes-begin/
END:VEVENT
BEGIN:VEVENT
DTSTART;VALUE=DATE:20210416
DTEND;VALUE=DATE:20210417
DTSTAMP:20260425T085216
CREATED:20210210T225847Z
LAST-MODIFIED:20210210T225847Z
UID:27770-1618531200-1618617599@sysa.com
SUMMARY:Track Meet Grades K-2
DESCRIPTION:
URL:https://sysa.com/event/track-meet-grades-k-2/
END:VEVENT
BEGIN:VEVENT
DTSTART;VALUE=DATE:20210417
DTEND;VALUE=DATE:20210418
DTSTAMP:20260425T085216
CREATED:20210210T224258Z
LAST-MODIFIED:20210210T224258Z
UID:27736-1618617600-1618703999@sysa.com
SUMMARY:Rookie Soccer Saturday Classes Begins
DESCRIPTION:
URL:https://sysa.com/event/rookie-soccer-saturday-classes-begins/
END:VEVENT
BEGIN:VEVENT
DTSTART;VALUE=DATE:20210417
DTEND;VALUE=DATE:20210418
DTSTAMP:20260425T085216
CREATED:20210210T232743Z
LAST-MODIFIED:20210210T232743Z
UID:27782-1618617600-1618703999@sysa.com
SUMMARY:Track Meet Grades 3-6
DESCRIPTION:
URL:https://sysa.com/event/track-meet-grades-3-6/
END:VEVENT
BEGIN:VEVENT
DTSTART;VALUE=DATE:20210423
DTEND;VALUE=DATE:20210424
DTSTAMP:20260425T085216
CREATED:20210210T225908Z
LAST-MODIFIED:20210210T225908Z
UID:27772-1619136000-1619222399@sysa.com
SUMMARY:Track Meet Grades K-2
DESCRIPTION:
URL:https://sysa.com/event/track-meet-grades-k-2-2/
END:VEVENT
BEGIN:VEVENT
DTSTART;VALUE=DATE:20210424
DTEND;VALUE=DATE:20210425
DTSTAMP:20260425T085216
CREATED:20210210T232809Z
LAST-MODIFIED:20210210T232809Z
UID:27784-1619222400-1619308799@sysa.com
SUMMARY:Track Meet Grades 3-6
DESCRIPTION:
URL:https://sysa.com/event/track-meet-grades-3-6-2/
END:VEVENT
BEGIN:VEVENT
DTSTART;VALUE=DATE:20210430
DTEND;VALUE=DATE:20210501
DTSTAMP:20260425T085216
CREATED:20210210T225931Z
LAST-MODIFIED:20210210T225931Z
UID:27774-1619740800-1619827199@sysa.com
SUMMARY:Track Meet Grades K-2
DESCRIPTION:
URL:https://sysa.com/event/track-meet-grades-k-2-3/
END:VEVENT
BEGIN:VEVENT
DTSTART;VALUE=DATE:20210501
DTEND;VALUE=DATE:20210502
DTSTAMP:20260425T085216
CREATED:20210210T232832Z
LAST-MODIFIED:20210210T232832Z
UID:27786-1619827200-1619913599@sysa.com
SUMMARY:Track Meet Grades 3-6
DESCRIPTION:
URL:https://sysa.com/event/track-meet-grades-3-6-3/
END:VEVENT
BEGIN:VEVENT
DTSTART;VALUE=DATE:20210507
DTEND;VALUE=DATE:20210508
DTSTAMP:20260425T085216
CREATED:20210210T230035Z
LAST-MODIFIED:20210210T230035Z
UID:27778-1620345600-1620431999@sysa.com
SUMMARY:Track Meet Grades K-2
DESCRIPTION:
URL:https://sysa.com/event/track-meet-grades-k-2-5/
END:VEVENT
BEGIN:VEVENT
DTSTART;VALUE=DATE:20210508
DTEND;VALUE=DATE:20210509
DTSTAMP:20260425T085216
CREATED:20210210T232855Z
LAST-MODIFIED:20210210T232855Z
UID:27788-1620432000-1620518399@sysa.com
SUMMARY:Track Meet Grades 3-6
DESCRIPTION:
URL:https://sysa.com/event/track-meet-grades-3-6-4/
END:VEVENT
BEGIN:VEVENT
DTSTART;VALUE=DATE:20210510
DTEND;VALUE=DATE:20210511
DTSTAMP:20260425T085216
CREATED:20210210T225001Z
LAST-MODIFIED:20210210T225001Z
UID:27754-1620604800-1620691199@sysa.com
SUMMARY:Rookie Soccer Monday Classes Ends
DESCRIPTION:
URL:https://sysa.com/event/rookie-soccer-monday-classes-ends/
END:VEVENT
BEGIN:VEVENT
DTSTART;VALUE=DATE:20210511
DTEND;VALUE=DATE:20210512
DTSTAMP:20260425T085216
CREATED:20210210T224828Z
LAST-MODIFIED:20210210T224828Z
UID:27750-1620691200-1620777599@sysa.com
SUMMARY:Rookie Soccer Tuesday Classes Ends
DESCRIPTION:
URL:https://sysa.com/event/rookie-soccer-tuesday-classes-ends/
END:VEVENT
BEGIN:VEVENT
DTSTART;VALUE=DATE:20210512
DTEND;VALUE=DATE:20210513
DTSTAMP:20260425T085216
CREATED:20210210T224719Z
LAST-MODIFIED:20210210T224719Z
UID:27746-1620777600-1620863999@sysa.com
SUMMARY:Rookie Soccer Wednesday Classes Ends
DESCRIPTION:
URL:https://sysa.com/event/rookie-soccer-wednesday-classes-ends/
END:VEVENT
BEGIN:VEVENT
DTSTART;VALUE=DATE:20210513
DTEND;VALUE=DATE:20210514
DTSTAMP:20260425T085216
CREATED:20210210T224606Z
LAST-MODIFIED:20210210T224606Z
UID:27742-1620864000-1620950399@sysa.com
SUMMARY:Rookie Soccer Thursday Classes Ends
DESCRIPTION:
URL:https://sysa.com/event/rookie-soccer-thursday-classes-ends/
END:VEVENT
BEGIN:VEVENT
DTSTART;VALUE=DATE:20210513
DTEND;VALUE=DATE:20210514
DTSTAMP:20260425T085216
CREATED:20210210T234904Z
LAST-MODIFIED:20210210T234904Z
UID:27794-1620864000-1620950399@sysa.com
SUMMARY:Spring Ultimate Frisbee Training Ends
DESCRIPTION:
URL:https://sysa.com/event/spring-ultimate-frisbee-training-ends/
END:VEVENT
BEGIN:VEVENT
DTSTART;VALUE=DATE:20210514
DTEND;VALUE=DATE:20210515
DTSTAMP:20260425T085216
CREATED:20210210T223428Z
LAST-MODIFIED:20210210T224016Z
UID:27722-1620950400-1621036799@sysa.com
SUMMARY:Rookie Soccer Fridays Classes Ends
DESCRIPTION:
URL:https://sysa.com/event/rookie-soccer-wednesday-classes-begin/
END:VEVENT
BEGIN:VEVENT
DTSTART;VALUE=DATE:20210514
DTEND;VALUE=DATE:20210515
DTSTAMP:20260425T085216
CREATED:20210210T230107Z
LAST-MODIFIED:20210210T230107Z
UID:27780-1620950400-1621036799@sysa.com
SUMMARY:Track All League Meet Grades K-2
DESCRIPTION:
URL:https://sysa.com/event/track-all-league-meet-grades-k-2/
END:VEVENT
BEGIN:VEVENT
DTSTART;VALUE=DATE:20210515
DTEND;VALUE=DATE:20210516
DTSTAMP:20260425T085216
CREATED:20210210T224339Z
LAST-MODIFIED:20210210T224339Z
UID:27738-1621036800-1621123199@sysa.com
SUMMARY:Rookie Soccer Saturday Classes Ends
DESCRIPTION:
URL:https://sysa.com/event/rookie-soccer-saturday-classes-ends/
END:VEVENT
BEGIN:VEVENT
DTSTART;VALUE=DATE:20210515
DTEND;VALUE=DATE:20210516
DTSTAMP:20260425T085216
CREATED:20210210T225204Z
LAST-MODIFIED:20210210T225204Z
UID:27758-1621036800-1621123199@sysa.com
SUMMARY:Spring Soccer Training Ends
DESCRIPTION:
URL:https://sysa.com/event/spring-soccer-training-ends/
END:VEVENT
BEGIN:VEVENT
DTSTART;VALUE=DATE:20210515
DTEND;VALUE=DATE:20210516
DTSTAMP:20260425T085216
CREATED:20210210T225504Z
LAST-MODIFIED:20210210T225504Z
UID:27763-1621036800-1621123199@sysa.com
SUMMARY:Spring Flag Football Training Ends
DESCRIPTION:
URL:https://sysa.com/event/spring-flag-football-training-ends/
END:VEVENT
BEGIN:VEVENT
DTSTART;VALUE=DATE:20210515
DTEND;VALUE=DATE:20210516
DTSTAMP:20260425T085216
CREATED:20210210T225744Z
LAST-MODIFIED:20210210T225744Z
UID:27767-1621036800-1621123199@sysa.com
SUMMARY:Spring Track & Field Ends
DESCRIPTION:
URL:https://sysa.com/event/spring-track-field-ends/
END:VEVENT
BEGIN:VEVENT
DTSTART;VALUE=DATE:20210515
DTEND;VALUE=DATE:20210516
DTSTAMP:20260425T085216
CREATED:20210210T232932Z
LAST-MODIFIED:20210210T232932Z
UID:27790-1621036800-1621123199@sysa.com
SUMMARY:Track All League Meet Grades 3-6
DESCRIPTION:
URL:https://sysa.com/event/track-all-league-meet-grades-3-6/
END:VEVENT
BEGIN:VEVENT
DTSTART;VALUE=DATE:20210517
DTEND;VALUE=DATE:20210518
DTSTAMP:20260425T085216
CREATED:20210210T235152Z
LAST-MODIFIED:20210210T235152Z
UID:27798-1621209600-1621295999@sysa.com
SUMMARY:Spring Quick Rip Rugby Begins
DESCRIPTION:
URL:https://sysa.com/event/spring-quick-rip-rugby-begins/
END:VEVENT
BEGIN:VEVENT
DTSTART;VALUE=DATE:20210616
DTEND;VALUE=DATE:20210617
DTSTAMP:20260425T085216
CREATED:20210210T235356Z
LAST-MODIFIED:20210210T235356Z
UID:27800-1623801600-1623887999@sysa.com
SUMMARY:Spring Quick Rip Rugby Ends
DESCRIPTION:
URL:https://sysa.com/event/spring-quick-rip-rugby-ends/
END:VEVENT
BEGIN:VEVENT
DTSTART;TZID=America/Los_Angeles:20210628T090000
DTEND;TZID=America/Los_Angeles:20210702T120000
DTSTAMP:20260425T085216
CREATED:20210525T191027Z
LAST-MODIFIED:20210525T191027Z
UID:28295-1624870800-1625227200@sysa.com
SUMMARY:Coed Volleyball Camp
DESCRIPTION:Ages 6-12 years
URL:https://sysa.com/event/coed-volleyball-camp/
LOCATION:Farwell Elementary
END:VEVENT
BEGIN:VEVENT
DTSTART;TZID=America/Los_Angeles:20210628T090000
DTEND;TZID=America/Los_Angeles:20210702T120000
DTSTAMP:20260425T085216
CREATED:20210525T191532Z
LAST-MODIFIED:20210525T191532Z
UID:28302-1624870800-1625227200@sysa.com
SUMMARY:Stem Soccer Camp
DESCRIPTION:Ages 8-13
URL:https://sysa.com/event/stem-soccer-camp/
LOCATION:Hamblen Elementary
END:VEVENT
BEGIN:VEVENT
DTSTART;TZID=America/Los_Angeles:20210629T150000
DTEND;TZID=America/Los_Angeles:20210722T160000
DTSTAMP:20260425T085216
CREATED:20210525T193042Z
LAST-MODIFIED:20210525T193042Z
UID:28320-1624978800-1626969600@sysa.com
SUMMARY:Speed & Agility Summer 1
DESCRIPTION:Tu/Th\nAges 7-13
URL:https://sysa.com/event/speed-agility-summer-1/
LOCATION:U District PT\, 700 North Hamilton\, Spokane\, WA\, 99202
END:VEVENT
END:VCALENDAR