BEGIN:VCALENDAR
VERSION:2.0
PRODID:-// - ECPv6.15.17//NONSGML v1.0//EN
CALSCALE:GREGORIAN
METHOD:PUBLISH
X-ORIGINAL-URL:https://sysa.com
X-WR-CALDESC:Events for 
REFRESH-INTERVAL;VALUE=DURATION:PT1H
X-Robots-Tag:noindex
X-PUBLISHED-TTL:PT1H
BEGIN:VTIMEZONE
TZID:America/Los_Angeles
BEGIN:DAYLIGHT
TZOFFSETFROM:-0800
TZOFFSETTO:-0700
TZNAME:PDT
DTSTART:20200308T100000
END:DAYLIGHT
BEGIN:STANDARD
TZOFFSETFROM:-0700
TZOFFSETTO:-0800
TZNAME:PST
DTSTART:20201101T090000
END:STANDARD
BEGIN:DAYLIGHT
TZOFFSETFROM:-0800
TZOFFSETTO:-0700
TZNAME:PDT
DTSTART:20210314T100000
END:DAYLIGHT
BEGIN:STANDARD
TZOFFSETFROM:-0700
TZOFFSETTO:-0800
TZNAME:PST
DTSTART:20211107T090000
END:STANDARD
BEGIN:DAYLIGHT
TZOFFSETFROM:-0800
TZOFFSETTO:-0700
TZNAME:PDT
DTSTART:20220313T100000
END:DAYLIGHT
BEGIN:STANDARD
TZOFFSETFROM:-0700
TZOFFSETTO:-0800
TZNAME:PST
DTSTART:20221106T090000
END:STANDARD
BEGIN:DAYLIGHT
TZOFFSETFROM:-0800
TZOFFSETTO:-0700
TZNAME:PDT
DTSTART:20230312T100000
END:DAYLIGHT
BEGIN:STANDARD
TZOFFSETFROM:-0700
TZOFFSETTO:-0800
TZNAME:PST
DTSTART:20231105T090000
END:STANDARD
BEGIN:DAYLIGHT
TZOFFSETFROM:-0800
TZOFFSETTO:-0700
TZNAME:PDT
DTSTART:20240310T100000
END:DAYLIGHT
BEGIN:STANDARD
TZOFFSETFROM:-0700
TZOFFSETTO:-0800
TZNAME:PST
DTSTART:20241103T090000
END:STANDARD
END:VTIMEZONE
BEGIN:VEVENT
DTSTART;TZID=America/Los_Angeles:20210712T090000
DTEND;TZID=America/Los_Angeles:20210716T120000
DTSTAMP:20260425T042534
CREATED:20210525T192916Z
LAST-MODIFIED:20210525T192916Z
UID:28318-1626080400-1626436800@sysa.com
SUMMARY:Multi Sport Camp
DESCRIPTION:Ages 4-7
URL:https://sysa.com/event/multi-sport-camp/
LOCATION:Hamblen Elementary
END:VEVENT
BEGIN:VEVENT
DTSTART;TZID=America/Los_Angeles:20210719T103000
DTEND;TZID=America/Los_Angeles:20210722T120000
DTSTAMP:20260425T042534
CREATED:20210525T192606Z
LAST-MODIFIED:20210525T192606Z
UID:28312-1626690600-1626955200@sysa.com
SUMMARY:SYSA Flag Football Camp
DESCRIPTION:
URL:https://sysa.com/event/sysa-flag-football-camp/
LOCATION:Andrew Rypien Field\, 3501 N Regal Street\, Spokane\, 99207
END:VEVENT
BEGIN:VEVENT
DTSTART;TZID=America/Los_Angeles:20210726T103000
DTEND;TZID=America/Los_Angeles:20210729T120000
DTSTAMP:20260425T042534
CREATED:20210525T192039Z
LAST-MODIFIED:20210525T192039Z
UID:28306-1627295400-1627560000@sysa.com
SUMMARY:SYSA Rec Soccer Camp
DESCRIPTION:Ages 6-12 years
URL:https://sysa.com/event/sysa-rec-soccer-camp/
LOCATION:Andrew Rypien Field\, 3501 N Regal Street\, Spokane\, 99207
END:VEVENT
BEGIN:VEVENT
DTSTART;TZID=America/Los_Angeles:20210727T150000
DTEND;TZID=America/Los_Angeles:20210819T160000
DTSTAMP:20260425T042534
CREATED:20210525T191335Z
LAST-MODIFIED:20210525T191412Z
UID:28298-1627398000-1629388800@sysa.com
SUMMARY:Weightlifting 101 Session 2
DESCRIPTION:T/Th\, Ages 8-18
URL:https://sysa.com/event/weightlifting-101-session-1/
LOCATION:Crossfit Spokane\, 123 E Mission\, Spokane\, wa
END:VEVENT
BEGIN:VEVENT
DTSTART;TZID=America/Los_Angeles:20210727T150000
DTEND;TZID=America/Los_Angeles:20210819T160000
DTSTAMP:20260425T042534
CREATED:20210525T193139Z
LAST-MODIFIED:20210525T193139Z
UID:28322-1627398000-1629388800@sysa.com
SUMMARY:Speed & Agility Summer 2
DESCRIPTION:Tu/Th\nAges 7-13
URL:https://sysa.com/event/speed-agility-summer-2/
LOCATION:U District PT\, 700 North Hamilton\, Spokane\, WA\, 99202
END:VEVENT
BEGIN:VEVENT
DTSTART;TZID=America/Los_Angeles:20210802T090000
DTEND;TZID=America/Los_Angeles:20210806T120000
DTSTAMP:20260425T042534
CREATED:20210525T192709Z
LAST-MODIFIED:20210525T192709Z
UID:28314-1627894800-1628251200@sysa.com
SUMMARY:Flag Football Camp
DESCRIPTION:Ages 6-12 years
URL:https://sysa.com/event/flag-football-camp/
LOCATION:Hamblen Elementary
END:VEVENT
BEGIN:VEVENT
DTSTART;TZID=America/Los_Angeles:20210802T090000
DTEND;TZID=America/Los_Angeles:20210806T120000
DTSTAMP:20260425T042534
CREATED:20210525T192827Z
LAST-MODIFIED:20210525T192827Z
UID:28316-1627894800-1628251200@sysa.com
SUMMARY:Stem Basketball Camp
DESCRIPTION:Ages 8-13
URL:https://sysa.com/event/stem-basketball-camp/
LOCATION:Farwell Elementary
END:VEVENT
BEGIN:VEVENT
DTSTART;TZID=America/Los_Angeles:20210802T103000
DTEND;TZID=America/Los_Angeles:20210805T120000
DTSTAMP:20260425T042534
CREATED:20210525T192201Z
LAST-MODIFIED:20210525T192201Z
UID:28308-1627900200-1628164800@sysa.com
SUMMARY:SYSA Track Camp
DESCRIPTION:
URL:https://sysa.com/event/sysa-track-camp/
LOCATION:Andrew Rypien Field\, 3501 N Regal Street\, Spokane\, 99207
END:VEVENT
BEGIN:VEVENT
DTSTART;TZID=America/Los_Angeles:20230201T080000
DTEND;TZID=America/Los_Angeles:20230201T170000
DTSTAMP:20260425T042534
CREATED:20230201T165127Z
LAST-MODIFIED:20230201T165127Z
UID:30413-1675238400-1675270800@sysa.com
SUMMARY:SYSA Annual Event
DESCRIPTION:SYSA’s Main Event is at the Northern Quest Resort & Casino. Want to attend or sponsor – reach out to Randy@sysa.com
URL:https://sysa.com/event/sysa-annual-event/
END:VEVENT
BEGIN:VEVENT
DTSTART;TZID=America/Los_Angeles:20230201T080000
DTEND;TZID=America/Los_Angeles:20230201T170000
DTSTAMP:20260425T042534
CREATED:20230201T165402Z
LAST-MODIFIED:20230201T165611Z
UID:30417-1675238400-1675270800@sysa.com
SUMMARY:SYSA Spring sports season begins
DESCRIPTION:Spring opening day for Soccer\, Rookie Soccer\, High School soccer\, Track & Field\, and Flag Football.
URL:https://sysa.com/event/sysa-spring-sports-season-begins/
END:VEVENT
BEGIN:VEVENT
DTSTART;VALUE=DATE:20230309
DTEND;VALUE=DATE:20230310
DTSTAMP:20260425T042534
CREATED:20230201T163607Z
LAST-MODIFIED:20230201T163607Z
UID:30393-1678320000-1678406399@sysa.com
SUMMARY:Soccer registration deadline
DESCRIPTION:The deadline for player spring soccer is March 9. Birth years 2017-2009.
URL:https://sysa.com/event/soccer-registration-deadline/
END:VEVENT
BEGIN:VEVENT
DTSTART;VALUE=DATE:20230309
DTEND;VALUE=DATE:20230310
DTSTAMP:20260425T042534
CREATED:20230201T164257Z
LAST-MODIFIED:20230201T164257Z
UID:30406-1678320000-1678406399@sysa.com
SUMMARY:Quick Rip Rugby deadline
DESCRIPTION:Quick Rip Rugby player registration deadline.
URL:https://sysa.com/event/quick-rip-rugby-deadline/
END:VEVENT
BEGIN:VEVENT
DTSTART;VALUE=DATE:20230316
DTEND;VALUE=DATE:20230317
DTSTAMP:20260425T042534
CREATED:20230201T164140Z
LAST-MODIFIED:20230201T164140Z
UID:30402-1678924800-1679011199@sysa.com
SUMMARY:Track & Field deadline
DESCRIPTION:Track & Field athlete registration deadline.
URL:https://sysa.com/event/track-field-deadline/
END:VEVENT
BEGIN:VEVENT
DTSTART;VALUE=DATE:20230316
DTEND;VALUE=DATE:20230317
DTSTAMP:20260425T042534
CREATED:20230201T164213Z
LAST-MODIFIED:20230201T164640Z
UID:30404-1678924800-1679011199@sysa.com
SUMMARY:Flag Football deadline.
DESCRIPTION:Flag Football player registration deadline.
URL:https://sysa.com/event/flag-football-deadline/
END:VEVENT
BEGIN:VEVENT
DTSTART;VALUE=DATE:20230320
DTEND;VALUE=DATE:20230321
DTSTAMP:20260425T042534
CREATED:20230201T164457Z
LAST-MODIFIED:20230201T164457Z
UID:30410-1679270400-1679356799@sysa.com
SUMMARY:Quick Rip Rugby begins
DESCRIPTION:Quick Rip Rugby season begins.
URL:https://sysa.com/event/quick-rip-rugby-begins/
END:VEVENT
BEGIN:VEVENT
DTSTART;VALUE=DATE:20230406
DTEND;VALUE=DATE:20230407
DTSTAMP:20260425T042534
CREATED:20230201T163919Z
LAST-MODIFIED:20230201T163919Z
UID:30398-1680739200-1680825599@sysa.com
SUMMARY:Rookie 2018 Soccer registration deadline
DESCRIPTION:Rookie 2018s soccer registration deadline for Session 1.
URL:https://sysa.com/event/rookie-2018-soccer-registration-deadline/
END:VEVENT
BEGIN:VEVENT
DTSTART;VALUE=DATE:20230406
DTEND;VALUE=DATE:20230407
DTSTAMP:20260425T042534
CREATED:20230201T164041Z
LAST-MODIFIED:20230201T164041Z
UID:30400-1680739200-1680825599@sysa.com
SUMMARY:HS Coed Soccer registration deadline
DESCRIPTION:Hight School Coed Soccer registration deadline.
URL:https://sysa.com/event/hs-coed-soccer-registration-deadline/
END:VEVENT
BEGIN:VEVENT
DTSTART;VALUE=DATE:20230511
DTEND;VALUE=DATE:20230512
DTSTAMP:20260425T042534
CREATED:20230201T164359Z
LAST-MODIFIED:20230201T164359Z
UID:30408-1683763200-1683849599@sysa.com
SUMMARY:Rookie II 2018s deadline
DESCRIPTION:Rookie 2018s player registration for session II deadline.
URL:https://sysa.com/event/rookie-ii-2018s-deadline/
END:VEVENT
BEGIN:VEVENT
DTSTART;VALUE=DATE:20230515
DTEND;VALUE=DATE:20230516
DTSTAMP:20260425T042534
CREATED:20230201T165226Z
LAST-MODIFIED:20230201T165226Z
UID:30415-1684108800-1684195199@sysa.com
SUMMARY:Rookie II season begins
DESCRIPTION:Soccer Rookie 2018s Session II season begins.
URL:https://sysa.com/event/rookie-ii-season-begins/
END:VEVENT
END:VCALENDAR