BEGIN:VCALENDAR
VERSION:2.0
PRODID:-// - ECPv6.15.17//NONSGML v1.0//EN
CALSCALE:GREGORIAN
METHOD:PUBLISH
X-ORIGINAL-URL:https://sysa.com
X-WR-CALDESC:Events for 
REFRESH-INTERVAL;VALUE=DURATION:PT1H
X-Robots-Tag:noindex
X-PUBLISHED-TTL:PT1H
BEGIN:VTIMEZONE
TZID:America/Los_Angeles
BEGIN:DAYLIGHT
TZOFFSETFROM:-0800
TZOFFSETTO:-0700
TZNAME:PDT
DTSTART:20200308T100000
END:DAYLIGHT
BEGIN:STANDARD
TZOFFSETFROM:-0700
TZOFFSETTO:-0800
TZNAME:PST
DTSTART:20201101T090000
END:STANDARD
BEGIN:DAYLIGHT
TZOFFSETFROM:-0800
TZOFFSETTO:-0700
TZNAME:PDT
DTSTART:20210314T100000
END:DAYLIGHT
BEGIN:STANDARD
TZOFFSETFROM:-0700
TZOFFSETTO:-0800
TZNAME:PST
DTSTART:20211107T090000
END:STANDARD
BEGIN:DAYLIGHT
TZOFFSETFROM:-0800
TZOFFSETTO:-0700
TZNAME:PDT
DTSTART:20220313T100000
END:DAYLIGHT
BEGIN:STANDARD
TZOFFSETFROM:-0700
TZOFFSETTO:-0800
TZNAME:PST
DTSTART:20221106T090000
END:STANDARD
END:VTIMEZONE
BEGIN:VEVENT
DTSTART;VALUE=DATE:20210208
DTEND;VALUE=DATE:20210209
DTSTAMP:20260424T174208
CREATED:20201027T224622Z
LAST-MODIFIED:20201027T225635Z
UID:27172-1612742400-1612828799@sysa.com
SUMMARY:Speed & Agility February begins
DESCRIPTION:February Speed and Agility begins 2/8\nAges 7-10\, M/W\, 6:30 pm\nAges 10-13\, T/Th\, 6:30 pm\nRegistration deadline: 1/28/2021
URL:https://sysa.com/event/speed-agility-february/
LOCATION:U District PT\, 700 North Hamilton\, Spokane\, WA\, 99202
END:VEVENT
BEGIN:VEVENT
DTSTART;VALUE=DATE:20210225
DTEND;VALUE=DATE:20210226
DTSTAMP:20260424T174208
CREATED:20201027T225151Z
LAST-MODIFIED:20201027T225611Z
UID:27180-1614211200-1614297599@sysa.com
SUMMARY:Registration Deadline Speed & Agility March
DESCRIPTION:Registration Deadline\nMarch Speed and Agility (8 sessions)\nBegins 3/8\nAges 7-10\, M/W\, 6:30 pm\nAges 10-13\, T/Th 6:30 pm
URL:https://sysa.com/event/deadline-speed-agility-march/
END:VEVENT
END:VCALENDAR